Workbook

Sheet 资产负债表
A1: 报告期 | B1: 39082 | C1: 39447 | D1: 39813 | E1: 40178 | F1: 40543 | G1: 40908 | H1: 41274 | I1: 41639
A2: 流动资产
A3: 货币资金 | B3: 6.436969e+08 | C3: 6.4375049e+08 | D3: 2.335334e+09 | E3: 2.2835763e+09 | F3: 1.9949606e+09 | G3: 1.1427095e+09 | H3: 1.7283322e+09 | I3: 2.0829515e+09
A4: 货币资金/总资产 | B4: =B3/B51 -> 0.29374157 | C4: =C3/C51 -> 0.22483917 | D4: =D3/D51 -> 0.47301069 | E4: =E3/E51 -> 0.38025707 | F4: =F3/F51 -> 0.26135804 | G4: =G3/G51 -> 0.12569792 | H4: =H3/H51 -> 0.16207213 | I4: =I3/I51 -> 0.16170834
A5: 交易性金融资产 | B5: -- | C5: -- | D5: 0 | E5: 0 | F5: -- | G5: 519683.25 | H5: -- | I5: 149758.72
A6: 应收票据 | B6: 1.535567e+08 | C6: 4.4130163e+08 | D6: 2.1665863e+08 | E6: 5.2942107e+08 | F6: 7.8361247e+08 | G6: 1.9142239e+09 | H6: 1.9612418e+09 | I6: 2.6641388e+09
A7: (货币资金+应收票据)/总资产 | B7: =(B3+B6)/B51 -> 0.3638149 | C7: =(C3+C6)/C51 -> 0.37897015 | D7: =(D3+D6)/D51 -> 0.51689386 | E7: =(E3+E6)/E51 -> 0.46841533 | F7: =(F3+F6)/F51 -> 0.36401842 | G7: =(G3+G6)/G51 -> 0.33626233 | H7: =(H3+H6)/H51 -> 0.34598506 | I7: =(I3+I6)/I51 -> 0.36853672
A8: 应收账款 | B8: 1.4991646e+08 | C8: 1.9427682e+08 | D8: 1.6128487e+08 | E8: 2.3549772e+08 | F8: 4.6070354e+08 | G8: 4.1337129e+08 | H8: 4.6110982e+08 | I8: 5.3646706e+08
A9: 应收2/总资产 | B9: =(B6+B8)/B51 -> 0.13848549 | C9: =(C6+C8)/C51 -> 0.22198497 | D9: =(D6+D8)/D51 -> 0.076550643 | E9: =(E6+E8)/E51 -> 0.12737292 | F9: =(F6+F8)/F51 -> 0.16301675 | G9: =(G6+G8)/G51 -> 0.25603521 | H9: =(H6+H8)/H51 -> 0.22715291 | I9: =(I6+I8)/I51 -> 0.24847658
A10: 应收2周转率 | B10: =利润表!B4/(资产负债表!B6+资产负债表!B8) -> 10.545695 | C10: =利润表!C4/(资产负债表!C6+资产负债表!C8) -> 6.4755451 | D10: =利润表!D4/(资产负债表!D6+资产负债表!D8) -> 15.143 | E10: =利润表!E4/(资产负债表!E6+资产负债表!E8) -> 9.3758764 | F10: =利润表!F4/(资产负债表!F6+资产负债表!F8) -> 8.0971697 | G10: =利润表!G4/(资产负债表!G6+资产负债表!G8) -> 4.8600902 | H10: =利润表!H4/(资产负债表!H6+资产负债表!H8) -> 5.6502222 | I10: =利润表!I4/(资产负债表!I6+资产负债表!I8) -> 4.9411866 | J10: ？
A11: 预付账款 | B11: 1.5027206e+08 | C11: 1.6074758e+08 | D11: 3.2661694e+08 | E11: 2.4332673e+08 | F11: 3.0798639e+08 | G11: 2.8970921e+08 | H11: 2.3425662e+08 | I11: 3.8965432e+08
A12: 预付账款/总资产 | B12: =B11/B51 -> 0.068574435 | C12: =C11/C51 -> 0.056143417 | D12: =D11/D51 -> 0.066154693 | E12: =E11/E51 -> 0.040518335 | F12: =F11/F51 -> 0.040349027 | G12: =G11/G51 -> 0.03186798 | H12: =H11/H51 -> 0.021967114 | I12: =I11/I51 -> 0.030250514
A13: 应收股利 | B13: -- | C13: -- | D13: -- | E13: 0 | F13: -- | G13: -- | H13: -- | I13: --
A14: 应收利息 | B14: -- | C14: -- | D14: 1523244 | E14: 26548831 | F14: 5167610.7 | G14: 5170032.5 | H14: 1258383.6 | I14: 1344968.1
A15: 其他应收款 | B15: 57203678 | C15: 66307716 | D15: 1.4538015e+08 | E15: 41559805 | F15: 85447764 | G15: 75243943 | H15: 66393410 | I15: 4.6175292e+08
A16: (应收+预付+其他应收款) | B16: =(B6+B8+B11+B15)/B51 -> 0.23316398 | C16: =(C6+C8+C11+C15)/C51 -> 0.30128732 | D16: =(D6+D8+D11+D15)/D51 -> 0.17215139 | E16: =(E6+E8+E11+E15)/E51 -> 0.17481172 | F16: =(F6+F8+F11+F15)/F51 -> 0.21456021 | G16: =(G6+G8+G11+G15)/G51 -> 0.29618001 | H16: =(H6+H8+H11+H15)/H51 -> 0.25534598 | I16: =(I6+I8+I11+I15)/I51 -> 0.31457493
A17: 存货 | B17: 6.5071961e+08 | C17: 1.0132123e+09 | D17: 1.3016372e+09 | E17: 1.6490224e+09 | F17: 2.7288044e+09 | G17: 3.5358674e+09 | H17: 4.3600233e+09 | I17: 4.757358e+09
A18: 存货/总资产 | B18: =B17/B51 -> 0.29694628 | C18: =C17/C51 -> 0.35387905 | D18: =D17/D51 -> 0.26364037 | E18: =E17/E51 -> 0.27459228 | F18: =F17/F51 -> 0.35749827 | G18: =G17/G51 -> 0.38894502 | H18: =H17/H51 -> 0.40885559 | I18: =I17/I51 -> 0.36933384
A19: 收入/存货 | B19: =利润表!B2/资产负债表!B17 -> 4.9181483 | C19: =利润表!C2/资产负债表!C17 -> 4.062048 | D19: =利润表!D2/资产负债表!D17 -> 4.396923 | E19: =利润表!E2/资产负债表!E17 -> 4.3491127 | F19: =利润表!F2/资产负债表!F17 -> 3.6922536 | G19: =利润表!G2/资产负债表!G17 -> 3.1993062 | H19: =利润表!H2/资产负债表!H17 -> 3.1391632 | I19: =利润表!I2/资产负债表!I17 -> 3.3242801
A20: 消耗性生物资产 | B20: -- | C20: -- | D20: -- | E20: -- | F20: -- | G20: -- | H20: -- | I20: --
A21: 待摊费用 | B21: 5181152.7 | C21: -- | D21: -- | E21: -- | F21: -- | G21: -- | H21: -- | I21: --
A22: 一年内到期的非流动资产 | B22: -- | C22: -- | D22: 0 | E22: 108927.91 | F22: -- | G22: -- | H22: -- | I22: --
A23: 其他流动资产 | B23: -- | C23: -- | D23: 0 | E23: 0 | F23: -- | G23: -- | H23: -- | I23: --
A24: 影响流动资产其他科目 | B24: -- | C24: 0 | D24: -- | E24: 0 | F24: 0 | G24: 0 | H24: 0 | I24: 0
A25: 流动资产合计 | B25: 1.8111338e+09 | C25: 2.5195965e+09 | D25: 4.4884351e+09 | E25: 5.0090618e+09 | F25: 6.3666828e+09 | G25: 7.376815e+09 | H25: 8.8126154e+09 | I25: 1.0893817e+10
A26: 流动资产/总资产 | B26: =B25/B51 -> 0.82648415 | C26: =C25/C51 -> 0.88000554 | D26: =D25/D51 -> 0.90911098 | E26: =E25/E51 -> 0.83410007 | F26: =F25/F51 -> 0.83409352 | G26: =G25/G51 -> 0.81144882 | H26: =H25/H51 -> 0.8263917 | I26: =I25/I51 -> 0.84573315
A27: 营业收入/流动资产 | B27: =利润表!B2/资产负债表!B25 -> 1.7670343 | C27: =利润表!C2/资产负债表!C25 -> 1.6334825 | D27: =利润表!D2/资产负债表!D25 -> 1.2750989 | E27: =利润表!E2/资产负债表!E25 -> 1.431762 | F27: =利润表!F2/资产负债表!F25 -> 1.5825255 | G27: =利润表!G2/资产负债表!G25 -> 1.5334968 | H27: =利润表!H2/资产负债表!H25 -> 1.5530945 | I27: =利润表!I2/资产负债表!I25 -> 1.4517217
A28: 非流动资产
A29: 可供出售金融资产 | B29: -- | C29: 9873402 | D29: 2996154 | E29: -- | F29: -- | G29: -- | H29: -- | I29: --
A30: 持有至到期投资 | B30: -- | C30: -- | D30: 0 | E30: -- | F30: -- | G30: -- | H30: -- | I30: --
A31: 投资性房地产 | B31: -- | C31: -- | D31: 0 | E31: -- | F31: -- | G31: -- | H31: 7173850.1 | I31: 7510225.9
A32: 长期股权投资 | B32: 51198469 | C32: 41673450 | D32: 36336909 | E32: 36064807 | F32: 35178907 | G32: 30154371 | H32: 30000000 | I32: 60423567
A33: 金融资产/总资产 | B33: =B32/B51 -> 0.023363665 | C33: =(C32+C29)/C51 -> 0.018003484 | D33: =(D32+D29)/D51 -> 0.0079667232 | E33: =E32/E51 -> 0.0060054476 | F33: =F32/F51 -> 0.0046087577 | G33: =G32/G51 -> 0.0033169774 | H33: =(H31+H32)/H51 -> 0.0034859301 | I33: =(I31+I32)/I51 -> 0.0052739879
A34: 长期应收款 | B34: -- | C34: -- | D34: 0 | E34: -- | F34: -- | G34: -- | H34: -- | I34: --
A35: 固定资产 | B35: 2.6295869e+08 | C35: 1.9036316e+08 | D35: 2.3882581e+08 | E35: 2.5759739e+08 | F35: 2.3658684e+08 | G35: 1.0331851e+09 | H35: 1.2515894e+09 | I35: 1.2697671e+09
A36: 固定资产周转率 | B36: =利润表!B2/资产负债表!B35 -> 12.170488 | C36: =利润表!C2/资产负债表!C35 -> 21.620344 | D36: =利润表!D2/资产负债表!D35 -> 23.963904 | E36: =利润表!E2/资产负债表!E35 -> 27.841059 | F36: =利润表!F2/资产负债表!F35 -> 42.586637 | G36: =利润表!G2/资产负债表!G35 -> 10.94898 | H36: =利润表!H2/资产负债表!H35 -> 10.935555 | I36: =利润表!I2/资产负债表!I35 -> 12.454875
A37: 固定资产/总资产 | B37: =B35/B51 -> 0.11999731 | C37: =C35/C51 -> 0.066487087 | D37: =D35/D51 -> 0.048373021 | E37: =E35/E51 -> 0.04289466 | F37: =F35/F51 -> 0.030995034 | G37: =G35/G51 -> 0.11365024 | H37: =H35/H51 -> 0.11736619 | I37: =I35/I51 -> 0.098577397
A38: 工程物资 | B38: -- | C38: -- | D38: 0 | E38: -- | F38: -- | G38: -- | H38: -- | I38: --
A39: 在建工程 | B39: 5016181.7 | C39: 9684444 | D39: 44898523 | E39: 2.4337469e+08 | F39: 7.7925269e+08 | G39: 2.9823134e+08 | H39: 2.2151287e+08 | I39: 2.625079e+08
A40: 固定资产清理 | B40: 8935 | C40: -- | D40: 0 | E40: -- | F40: -- | G40: -- | H40: -- | I40: --
...

Sheet 利润表
A1: 报告期 | B1: 39082 | C1: 39447 | D1: 39813 | E1: 40178 | F1: 40543 | G1: 40908 | H1: 41274 | I1: 41639
A2: 一、营业总收入 | B2: 3.2003355e+09 | C2: 4.1157169e+09 | D2: 5.7231987e+09 | E2: 7.171784e+09 | F2: 1.0075438e+10 | G2: 1.1312322e+10 | H2: 1.3686825e+10 | I2: 1.5814791e+10 | J2: =I2/B2 -> 4.941604
A3: 营业收入增长率 | C3: =(C2-B2)/B2 -> 0.28602669 | D3: =(D2-C2)/C2 -> 0.39057151 | E3: =(E2-D2)/D2 -> 0.25310765 | F3: =(F2-E2)/E2 -> 0.40487189 | G3: =(G2-F2)/F2 -> 0.12276237 | H3: =(H2-G2)/G2 -> 0.20990403 | I3: =(I2-H2)/H2 -> 0.15547553
A4: 营业收入 | B4: 3.2003355e+09 | C4: 4.1157169e+09 | D4: 5.7231987e+09 | E4: 7.171784e+09 | F4: 1.0075438e+10 | G4: 1.1312322e+10 | H4: 1.3686825e+10 | I4: 1.5814791e+10
A5: 二、营业总成本 | B5: 2.865716e+09 | C5: 3.7249527e+09 | D5: 5.1999261e+09 | E5: 6.483991e+09 | F5: 9.0403407e+09 | G5: 9.9564264e+09 | H5: 1.1883714e+10 | I5: 1.3860725e+10
A6: 营业成本 | B6: 2.2731892e+09 | C6: 2.8403637e+09 | D6: 3.9579911e+09 | E6: 4.9948566e+09 | F6: 7.0047647e+09 | G6: 7.9218082e+09 | H6: 9.5779886e+09 | I6: 1.1118385e+10
A7: 毛利率 | B7: =(B4-B6)/B4 -> 0.28970284 | C7: =(C4-C6)/C4 -> 0.30987389 | D7: =(D4-D6)/D4 -> 0.30843025 | E7: =(E4-E6)/E4 -> 0.30354058 | F7: =(F4-F6)/F4 -> 0.30476821 | G7: =(G4-G6)/G4 -> 0.29971867 | H7: =(H4-H6)/H4 -> 0.30020374 | I7: =(I4-I6)/I4 -> 0.29696289
A8: 营业税金及附加 | B8: 17883705 | C8: 23614495 | D8: 30718813 | E8: 37217788 | F8: 78370242 | G8: 61101635 | H8: 69519923 | I8: 76341078
A9: 营业税金及附加/营业收入 | B9: =B8/B4 -> 0.0055880719 | C9: =C8/C4 -> 0.0057376384 | D9: =D8/D4 -> 0.0053674203 | E9: =E8/E4 -> 0.0051894742 | F9: =F8/F4 -> 0.0077783461 | G9: =G8/G4 -> 0.0054013343 | H9: =H8/H4 -> 0.0050793318 | I9: =I8/I4 -> 0.0048271949
A10: 销售费用 | B10: 4.0933556e+08 | C10: 6.1740803e+08 | D10: 9.8347656e+08 | E10: 1.2373683e+09 | F10: 1.7025322e+09 | G10: 1.6663425e+09 | H10: 1.8642005e+09 | I10: 2.0125744e+09
A11: 销售费用/收入 | B11: =B10/B4 -> 0.12790395 | C11: =C10/C4 -> 0.15001227 | D11: =D10/D4 -> 0.17184037 | E11: =E10/E4 -> 0.17253284 | F11: =F10/F4 -> 0.16897849 | G11: =G10/G4 -> 0.14730331 | H11: =H10/H4 -> 0.13620402 | I11: =I10/I4 -> 0.12725899
A12: 管理费用 | B12: 1.6379549e+08 | C12: 1.6315593e+08 | D12: 1.8793195e+08 | E12: 2.3875195e+08 | F12: 2.527037e+08 | G12: 3.1780551e+08 | H12: 3.5537554e+08 | I12: 4.6189385e+08
A13: 管理费用/收入 | B13: =B12/B4 -> 0.051180724 | C13: =C12/C4 -> 0.039642166 | D13: =D12/D4 -> 0.032836873 | E13: =E12/E4 -> 0.033290454 | F13: =F12/F4 -> 0.025081163 | G13: =G12/G4 -> 0.028093746 | H13: =H12/H4 -> 0.025964791 | I13: =I12/I4 -> 0.029206447
A14: 财务费用 | B14: 1512068.2 | C14: -4332760 | D14: 1676380.1 | E14: -30188480 | F14: -14562595 | G14: -19309385 | H14: 1333402.1 | I14: 7862388.8
A15: 核心利润 | B15: =B4-B6-B8-B10-B12-B14 -> 3.3461948e+08 | C15: =C4-C6-C8-C10-C12-C14 -> 4.7550751e+08 | D15: =D4-D6-D8-D10-D12-D14 -> 5.6140389e+08 | E15: =E4-E6-E8-E10-E12-E14 -> 6.9377797e+08 | F15: =F4-F6-F8-F10-F12-F14 -> 1.0516296e+09 | G15: =G4-G6-G8-G10-G12-G14 -> 1.364574e+09 | H15: =H4-H6-H8-H10-H12-H14 -> 1.8184065e+09 | I15: =I4-I6-I8-I10-I12-I14 -> 2.1377343e+09
A16: 核心利润率 | B16: =B15/B4 -> 0.10455762 | C16: =C15/C4 -> 0.11553455 | D16: =D15/D4 -> 0.098092679 | E16: =E15/E4 -> 0.096737152 | F16: =F15/F4 -> 0.10437557 | G16: =G15/G4 -> 0.12062722 | H16: =H15/H4 -> 0.13285817 | I16: =I15/I4 -> 0.1351731
A17: 资产减值损失 | B17: 0 | C17: 84743329 | D17: 38131323 | E17: 5984953.5 | F17: 16532446 | G17: 8677900.2 | H17: 15296365 | I17: 1.8366863e+08
A18: 经营性利润 | B18: =B15+B17 -> 3.3461948e+08 | C18: =C15+C17 -> 5.6025084e+08 | D18: =D15+D17 -> 5.9953521e+08 | E18: =E15+E17 -> 6.9976292e+08 | F18: =F15+F17 -> 1.068162e+09 | G18: =G15+G17 -> 1.3732519e+09 | H18: =H15+H17 -> 1.8337029e+09 | I18: =I15+I17 -> 2.3214029e+09 | J18: =I18/B18 -> 6.9374411
A19: 经营性利润的增长率 | C19: =(C18-B18)/B18 -> 0.67429239 | D19: =(D18-C18)/C18 -> 0.070119252 | E19: =(E18-D18)/D18 -> 0.16717568 | F19: =(F18-E18)/E18 -> 0.52646275 | G19: =(G18-F18)/F18 -> 0.2856213 | H19: =(H18-G18)/G18 -> 0.33529974 | I19: =(I18-H18)/H18 -> 0.2659646
A20: 经营性利润/利润总额 | B20: =B18/B32 -> 0.99280987 | C20: =C18/C32 -> 1.4106493 | D20: =D18/D32 -> 1.0797578 | E20: =E18/E32 -> 0.99165841 | F20: =F18/F32 -> 1.0273382 | G20: =G18/G32 -> 0.9760365 | H20: =H18/H32 -> 1.0021076 | I20: =I18/I32 -> 0.85936158
A21: 三、其他经营收益 | B21: -- | C21: -- | D21: -- | E21: -2201810 | F21: -184373.31 | G21: 199688.6 | H21: -194639.82 | I21: 2027329.6
A22: 公允价值变动净收益 | B22: -- | C22: -- | D22: -- | E22: -- | F22: -- | G22: -- | H22: -- | I22: --
A23: 投资净收益 | B23: 778756.21 | C23: 2558384.3 | D23: 5612185.6 | E23: 4049721.2 | F23: 7998868.4 | G23: 16825710 | H23: 669973.47 | I23: 6.8486499e+08
A24: 联营、合营企业投资收益 | B24: -- | C24: -- | D24: -- | E24: -- | F24: -- | G24: -- | H24: -- | I24: --
A25: 汇兑净收益 | B25: -- | C25: -- | D25: -- | E25: -- | F25: -- | G25: -- | H25: -- | I25: --
A26: 投资性损益/利润总额 | B26: =B23/B32 -> 0.0023105554 | C26: =C23/C32 -> 0.0064417269 | D26: =D23/D32 -> 0.010107499 | E26: =E23/E32 -> 0.005739001 | F26: =F23/F32 -> 0.0076931616 | G26: =G23/G32 -> 0.011958846 | H26: =H23/H32 -> 0.00036613649 | I26: =I23/I32 -> 0.2535306
A27: 四、营业利润 | B27: 3.370214e+08 | C27: 3.9332257e+08 | D27: 5.2888475e+08 | E27: 6.9184273e+08 | F27: 1.043096e+09 | G27: 1.3727218e+09 | H27: 1.8037801e+09 | I27: 2.6389306e+09
A28: 营业外收入 | B28: 582659.94 | C28: 5476747.1 | D28: 30386609 | E28: 16838334 | F28: 6874855.6 | G28: 38884563 | H28: 31122152 | I28: 68782104
A29: 营业外支出 | B29: 1671253.2 | C29: 1641174.4 | D29: 4021665.8 | E29: 3031910.6 | F29: 10233390 | G29: 4638600.2 | H29: 5056052.9 | I29: 6401721.8
A30: 非流动资产处置净损失 | B30: -- | C30: 141952.7 | D30: -- | E30: 806215.41 | F30: 250446.96 | G30: 1106667.4 | H30: 333816.83 | I30: 1152072.1
A31: 营业外收支/利润总额 | B31: =(B28+B29+0)/B32 -> 0.0066873191 | C31: =(C28+C29+C30)/C32 -> 0.018279555 | D31: =(D28+D29+0)/D32 -> 0.061969011 | E31: =(E28+E29+E30)/E32 -> 0.029301331 | F31: =(F28+F29+F30)/F32 -> 0.016695265 | G31: =(G28+G29+G30)/G32 -> 0.031720578 | H31: =(H28+H29+H30)/H32 -> 0.019953602 | I31: =(I28+I29+I30)/I32 -> 0.028258833
A32: 五、利润总额 | B32: 3.3704286e+08 | C32: 3.9715814e+08 | D32: 5.552497e+08 | E32: 7.0564916e+08 | F32: 1.0397375e+09 | G32: 1.4069677e+09 | H32: 1.8298462e+09 | I32: 2.701311e+09
A33: 所得税 | B33: 53463110 | C33: 58977173 | D33: 91717872 | E33: 96453930 | F33: 1.1339397e+08 | G33: 1.9605993e+08 | H33: 2.4733036e+08 | I33: 3.7985724e+08
A34: 所得税/利润总额 | B34: =B33/B32 -> 0.15862407 | C34: =C33/C32 -> 0.14849796 | D34: =D33/D32 -> 0.16518311 | E34: =E33/E32 -> 0.13668822 | F34: =F33/F32 -> 0.10906019 | G34: =G33/G32 -> 0.13934927 | H34: =H33/H32 -> 0.13516456 | I34: =I33/I32 -> 0.14061959
A35: 未确认的投资损失 | B35: -- | C35: -- | D35: -- | E35: -- | F35: -- | G35: -- | H35: -- | I35: --
A36: 六、净利润 | B36: 2.7639534e+08 | C36: 3.3818097e+08 | D36: 4.6353182e+08 | E36: 6.0919523e+08 | F36: 9.2634351e+08 | G36: 1.2109078e+09 | H36: 1.5825158e+09 | I36: 2.3214538e+09 | J36: =I36/B36 -> 8.3990337
A37: 销售净利率 | B37: =B36/B4 -> 0.086364489 | C37: =C36/C4 -> 0.08216818 | D37: =D36/D4 -> 0.080991741 | E37: =E36/E4 -> 0.084943331 | F37: =F36/F4 -> 0.091940769 | G37: =G36/G4 -> 0.10704325 | H37: =H36/H4 -> 0.1156233 | I37: =I36/I4 -> 0.14679004
A38: 净利润增长率 | C38: =(C36-B36)/B36 -> 0.22354077 | D38: =(D36-C36)/C36 -> 0.37066206 | E38: =(E36-D36)/D36 -> 0.31424683 | F38: =(F36-E36)/E36 -> 0.52060204 | G38: =(G36-F36)/F36 -> 0.30719091 | H38: =(H36-G36)/G36 -> 0.30688384 | I38: =(I36-H36)/H36 -> 0.46693873
A39: 少数股东损益 | B39: 7184407.5 | C39: 1390487.3 | D39: -1888332.6 | E39: 5475661.7 | F39: 174925.2 | G39: -858.77 | H39: -- | I39: --
A40: 归属于母公司股东的净利润 | B40: 2.7639534e+08 | C40: 3.3679048e+08 | D40: 4.6542016e+08 | E40: 6.0371957e+08 | F40: 9.2616858e+08 | G40: 1.2109087e+09 | H40: 1.5825158e+09 | I40: 2.3214538e+09
...

Sheet 现金流量表
A1: 报告期 | B1: 39082 | C1: 39447 | D1: 39813 | E1: 40178 | F1: 40543 | G1: 40908 | H1: 41274 | I1: 41639
A2: 一、经营活动产生的现金流量
A3: 销售商品、提供劳务收到的现金 | B3: 3.5236069e+09 | C3: 4.4472683e+09 | D3: 6.5811571e+09 | E3: 7.388251e+09 | F3: 1.0080755e+10 | G3: 1.1434064e+10 | H3: 1.5504407e+10 | I3: 1.6663068e+10
A4: 销售现金/营业收入 | B4: =B3/利润表!B2 -> 1.1010117 | C4: =C3/利润表!C2 -> 1.0805574 | D4: =D3/利润表!D2 -> 1.1499089 | E4: =E3/利润表!E2 -> 1.0301831 | F4: =F3/利润表!F2 -> 1.0005277 | G4: =G3/利润表!G2 -> 1.0107619 | H4: =H3/利润表!H2 -> 1.132798 | I4: =I3/利润表!I2 -> 1.0536382
A5: 销售现金/经营流入小计 | B5: =B3/B8 -> 0.99778703 | C5: =C3/C8 -> 0.99437915 | D5: =D3/D8 -> 0.99543823 | E5: =E3/E8 -> 0.98890212 | F5: =F3/F8 -> 0.9924713 | G5: =G3/G8 -> 0.99128698 | H5: =H3/H8 -> 0.99569731 | I5: =I3/I8 -> 0.99306947
A6: 收到的税费返还 | B6: 320294.59 | C6: 710536.72 | D6: 155265.23 | E6: -- | F6: -- | G6: 82379.63 | H6: -- | I6: --
A7: 收到其他与经营活动有关的现金 | B7: 7494627.5 | C7: 24428200 | D7: 30004018 | E7: 82914106 | F7: 76470702 | G7: 1.0041854e+08 | H7: 66998863 | I7: 1.1628991e+08
A8: 经营活动现金流入小计 | B8: 3.5314218e+09 | C8: 4.472407e+09 | D8: 6.6113164e+09 | E8: 7.4711652e+09 | F8: 1.0157226e+10 | G8: 1.1534565e+10 | H8: 1.5571406e+10 | I8: 1.6779358e+10
A9: 经营流入/总流入 | B9: =B8/(B8+B34+B48) -> 0.98844251 | C9: =C8/(C8+C34+C48) -> 0.98935748 | D9: =D8/(D8+D34+D48) -> 0.81434224 | E9: =E8/(E8+E34+E48) -> 0.94395653 | F9: =F8/(F8+F34+F48) -> 0.99810969 | G9: =G8/(G8+G34+G48) -> 0.98760705 | H9: =H8/(H8+H34+H48) -> 0.9882133 | I9: =I8/(I8+I34+I48) -> 0.95998954
A10: 购买商品、接受劳务支付的现金 | B10: 2.4612392e+09 | C10: 3.4358848e+09 | D10: 4.2323583e+09 | E10: 5.1096597e+09 | F10: 7.414943e+09 | G10: 9.1962795e+09 | H10: 1.145816e+10 | I10: 1.2732538e+10
A11: 购买现金/经营流出小计 | B11: =B10/B17 -> 0.75981548 | C11: =C10/C17 -> 0.77877598 | D11: =D10/D17 -> 0.72916133 | E11: =E10/E17 -> 0.728846 | F11: =F10/F17 -> 0.7624509 | G11: =G10/G17 -> 0.76748525 | H11: =H10/H17 -> 0.7754335 | I11: =I10/I17 -> 0.77459286
A12: 支付给职工以及为职工支付的现金 | B12: 89618680 | C12: 1.0732254e+08 | D12: 1.8906169e+08 | E12: 2.6061147e+08 | F12: 3.3766841e+08 | G12: 3.6692137e+08 | H12: 6.0727594e+08 | I12: 6.8646098e+08
A13: 支付给职工的现金/营业收入 | B13: =B12/利润表!B4 -> 0.028002902 | C13: =C12/利润表!C4 -> 0.026076268 | D13: =D12/利润表!D4 -> 0.033034269 | E13: =E12/利润表!E4 -> 0.036338443 | F13: =F12/利润表!F4 -> 0.033514019 | G13: =G12/利润表!G4 -> 0.032435548 | H13: =H12/利润表!H4 -> 0.044369382 | I13: =I12/利润表!I4 -> 0.043406263
A14: 支付的各项税费 | B14: 2.5118254e+08 | C14: 2.9515883e+08 | D14: 4.2119787e+08 | E14: 5.4736276e+08 | F14: 6.5757618e+08 | G14: 8.2958082e+08 | H14: 1.0159843e+09 | I14: 1.1150415e+09
A15: 支付的各项税费/营业收入 | B15: =B14/利润表!B4 -> 0.078486314 | C15: =C14/利润表!C4 -> 0.071715046 | D15: =D14/利润表!D4 -> 0.073594836 | E15: =E14/利润表!E4 -> 0.076321702 | F15: =F14/利润表!F4 -> 0.065265271 | G15: =G14/利润表!G4 -> 0.073334263 | H15: =H14/利润表!H4 -> 0.074230826 | I15: =I14/利润表!I4 -> 0.070506242
A16: 支付其他与经营活动有关的现金 | B16: 4.3721869e+08 | C16: 5.7353777e+08 | D16: 9.6180168e+08 | E16: 1.0929824e+09 | F16: 1.3149541e+09 | G16: 1.5895716e+09 | H16: 1.6950369e+09 | I16: 1.9036762e+09
A17: 经营活动现金流出小计 | B17: 3.2392591e+09 | C17: 4.4119039e+09 | D17: 5.8044195e+09 | E17: 7.0106163e+09 | F17: 9.7251417e+09 | G17: 1.1982353e+10 | H17: 1.4776457e+10 | I17: 1.6437716e+10
A18: 经营流出小计/总流出 | B18: =B17/(B17+B39+B53) -> 0.95222625 | C18: =C17/(C17+C39+C53) -> 0.97598493 | D18: =D17/(D17+D39+D53) -> 0.89881488 | E18: =E17/(E17+E39+E53) -> 0.87999851 | F18: =F17/(F17+F39+F53) -> 0.92931039 | G18: =G17/(G17+G39+G53) -> 0.95616167 | H18: =H17/(H17+H39+H53) -> 0.97396277 | I18: =I17/(I17+I39+I53) -> 0.95816163
A19: 经营活动产生的现金流量净额 | B19: 2.921627e+08 | C19: 60503123 | D19: 8.0689688e+08 | E19: 4.6054881e+08 | F19: 4.3208388e+08 | G19: -4.4778811e+08 | H19: 7.9494891e+08 | I19: 3.4164159e+08 | J19: =SUM(B19:I19) -> 2.7409978e+09
A20: 同口径的营业利润 | B20: =利润表!B15-利润表!B33+现金流量表!B64+现金流量表!B65+现金流量表!B66 -> 3.0949901e+08 | C20: =利润表!C15-利润表!C33+现金流量表!C64+现金流量表!C65+现金流量表!C66 -> 4.486521e+08 | D20: =利润表!D15-利润表!D33+现金流量表!D64+现金流量表!D65+现金流量表!D66 -> 5.0643781e+08 | E20: =利润表!E15-利润表!E33+现金流量表!E64+现金流量表!E65+现金流量表!E66 -> 6.3259328e+08 | F20: =利润表!F15-利润表!F33+现金流量表!F64+现金流量表!F65+现金流量表!F66 -> 9.7605012e+08 | G20: =利润表!G15-利润表!G33+现金流量表!G64+现金流量表!G65+现金流量表!G66 -> 1.2070492e+09 | H20: =利润表!H15-利润表!H33+现金流量表!H64+现金流量表!H65+现金流量表!H66 -> 1.6608873e+09 | I20: =利润表!I15-利润表!I33+现金流量表!I64+现金流量表!I65+现金流量表!I66 -> 1.8497699e+09 | J20: =SUM(B20:I20) -> 7.5909387e+09
A21: 经营净现金/同口径营业利润 | B21: =B19/B20 -> 0.9439859 | C21: =C19/C20 -> 0.13485532 | D21: =D19/D20 -> 1.5932793 | E21: =E19/E20 -> 0.72803304 | F21: =F19/F20 -> 0.44268617 | G21: =G19/G20 -> -0.3709775 | H21: =H19/H20 -> 0.47862906 | I21: =I19/I20 -> 0.1846941
A22: 狭义自由现金流量 | B22: =B19-B64-B65-B66 -> 2.6382006e+08 | C22: =C19-C64-C65-C66 -> 28381363 | D22: =D19-D64-D65-D66 -> 7.7014508e+08 | E22: =E19-E64-E65-E66 -> 4.2527956e+08 | F22: =F19-F64-F65-F66 -> 3.9426938e+08 | G22: =G19-G64-G65-G66 -> -4.8632329e+08 | H22: =H19-H64-H65-H66 -> 7.0513778e+08 | I22: =I19-I64-I65-I66 -> 2.4974872e+08
A23: 经营现金净流量/销售现金 | B23: =B19/B3 -> 0.082915805 | C23: =C19/C3 -> 0.013604559 | D23: =D19/D3 -> 0.12260714 | E23: =E19/E3 -> 0.062335295 | F23: =F19/F3 -> 0.042862255 | G23: =G19/G3 -> -0.039162637 | H23: =H19/H3 -> 0.051272449 | I23: =I19/I3 -> 0.020502922
A24: 经营现金净流量/营业收入 | B24: =B19/利润表!B4 -> 0.091291272 | C24: =C19/利润表!C4 -> 0.014700507 | D24: =D19/利润表!D4 -> 0.14098705 | E24: =E19/利润表!E4 -> 0.06421677 | F24: =F19/利润表!F4 -> 0.042884874 | G24: =G19/利润表!G4 -> -0.0395841 | H24: =H19/利润表!H4 -> 0.058081326 | I24: =I19/利润表!I4 -> 0.021602662
A25: 经营现金净流量/流动负债 | B25: =B19/资产负债表!B78 -> 0.2896445 | C25: =C19/资产负债表!C78 -> 0.043182767 | D25: =D19/资产负债表!D78 -> 0.46681177 | E25: =E19/资产负债表!E78 -> 0.21028139 | F25: =F19/资产负债表!F78 -> 0.14257496 | G25: =G19/资产负债表!G78 -> -0.13400127 | H25: =H19/资产负债表!H78 -> 0.230054 | I25: =I19/资产负债表!I78 -> 0.093361075
A26: 经营现金净流量/负债总额 | B26: =B19/资产负债表!B92 -> 0.27960149 | C26: =C19/资产负债表!C92 -> 0.042063168 | D26: =D19/资产负债表!D92 -> 0.4609435 | E26: =E19/资产负债表!E92 -> 0.19387661 | F26: =F19/资产负债表!F92 -> 0.13425061 | G26: =G19/资产负债表!G92 -> -0.12664993 | H26: =H19/资产负债表!H92 -> 0.21859239 | I26: =I19/资产负债表!I92 -> 0.088689111
A27: 二、投资活动产生的现金流量
A28: 收回投资收到的现金 | B28: 17943.49 | C28: 500000 | D28: 359641.54 | E28: 500000 | F28: -- | G28: 106375000 | H28: 1.5541968e+08 | I28: --
A29: 取得投资收益收到的现金 | B29: 893962.63 | C29: 2574163.5 | D29: 7170381.2 | E29: 5141823.7 | F29: 5000000 | G29: 9100245.6 | H29: 1551999.7 | I29: 42254919
A30: 处置固定资产、无形资产和其他长期 | B30: 952224.6 | C30: 35515 | D30: 230530.01 | E30: 508263.58 | F30: 4236706.9 | G30: 19265836 | H30: 12012958 | I30: 103604.68
A31: 资产收回的现金净额
A32: 处置子公司及其他营业单位收到的现金净额 | B32: -- | C32: -- | D32: -- | E32: -- | F32: -- | G32: -- | H32: 138706.44 | I32: 6.4158415e+08
A33: 收到其他与投资活动有关的现金 | B33: 0 | C33: -- | D33: 0 | E33: 164919122 | F33: 0 | G33: 0 | H33: 6601200 | I33: 0
A34: 投资活动现金流入小计 | B34: 1864130.7 | C34: 3109678.5 | D34: 7760552.8 | E34: 1.7106921e+08 | F34: 9236706.9 | G34: 1.3474108e+08 | H34: 1.7572455e+08 | I34: 6.8394268e+08
A35: 购建固定资产、无形资产和其他长期资产支付的现金 | B35: 97076698 | C35: 16729885 | D35: 3.1776017e+08 | E35: 5.0234572e+08 | F35: 5.7783119e+08 | G35: 3.6544361e+08 | H35: 1.1827177e+08 | I35: 75136081
A36: 投资支付的现金 | B36: -- | C36: 27773800 | D36: 27688945 | E36: 3367636.1 | F36: 3537660 | G36: 1.0096803e+08 | H36: 154900000 | I36: 225885000
A37: 取得子公司及其他营业单位支付的现金净额 | B37: -- | C37: -679332.14 | D37: 50000001 | E37: -- | F37: 8699130 | G37: 2900870 | H37: -- | I37: 92273600
A38: 支付其他与投资活动有关的现金 | B38: 0 | C38: -- | D38: 0 | E38: -- | F38: 30619811 | G38: 0 | H38: 0 | I38: 0
A39: 投资活动现金流出小计 | B39: 97076698 | C39: 43824353 | D39: 3.9544911e+08 | E39: 5.0571335e+08 | F39: 6.2068779e+08 | G39: 4.6931251e+08 | H39: 2.7317177e+08 | I39: 3.9329468e+08
A40: 投资活动产生的现金流量净额 | B40: -95212567 | C40: -40714675 | D40: -3.8768856e+08 | E40: -3.3464414e+08 | F40: -6.1145108e+08 | G40: -3.3457143e+08 | H40: -97447223 | I40: 2.90648e+08
...

Sheet 财务指标
A1: 报告日期 | B1: 39082 | C1: 39447 | D1: 39813 | E1: 40178 | F1: 40543 | G1: 40908 | H1: 41274 | I1: 41639
A2: 每股指标
A3: 摊薄每股收益(元) | B3: 0.5773 | C3: 0.6986 | D3: 0.868 | E3: 1.1407 | F3: 1.3343 | G3: 1.7442 | H3: 2.2794 | I3: 3.3438
A4: 加权每股收益(元) | B4: -- | C4: 0.7 | D4: 0.96 | E4: 1.13 | F4: 1.33 | G4: 1.74 | H4: 2.28 | I4: 3.34
A5: 每股收益_调整后(元) | B5: -- | C5: 0.7 | D5: 0.96 | E5: 1.13 | F5: 1.33 | G5: 1.74 | H5: 2.28 | I5: 3.34
A6: 扣除非经常性损益后的每股收益(元) | B6: 0.5694 | C6: 0.69 | D6: 0.92 | E6: 1.1 | F6: 1.33 | G6: 1.7 | H6: 2.24 | I6: 2.69
A7: 每股净资产_调整前(元) | B7: 2.3629 | C7: 2.9434 | D7: 5.9669 | E7: 6.7969 | F7: 6.3586 | G7: 8.0017 | H7: 10.1219 | I7: 13.0048
A8: 每股净资产_调整后(元) | B8: 2.18 | C8: 2.78 | D8: 5.87 | E8: 6.71 | F8: 6.36 | G8: 8 | H8: 10.1219 | I8: 13.0048
A9: 每股经营性现金流(元) | B9: 0.6036 | C9: 0.125 | D9: 1.5109 | E9: 0.8624 | F9: 0.6224 | G9: -0.645 | H9: 1.145 | I9: 0.4921
A10: 每股资本公积金(元) | B10: 0.1152 | C10: 0.1317 | D10: 2.616 | E10: 2.6167 | F10: 1.8014 | G10: 1.8013 | H10: 1.8075 | I10: 1.7969
A11: 每股未分配利润(元) | B11: 0.7486 | C11: 1.2983 | D11: 1.8508 | E11: 2.6296 | F11: 3.1617 | G11: 4.6737 | H11: 6.7038 | I11: 9.382
A12: 调整后的每股净资产(元) | B12: 2.14 | C12: -- | D12: -- | E12: -- | F12: -- | G12: -- | H12: -- | I12: --
A13: 盈利能力
A14: 总资产利润率(%) | B14: 12.7675 | C14: 11.8115 | D14: 9.3886 | E14: 10.1442 | F14: 12.1359 | G14: 13.32 | H14: 14.8398 | I14: 18.0224
A15: 主营业务利润率(%) | B15: 28.4562 | C15: 30.4136 | D15: 30.3063 | E15: 29.8351 | F15: 29.699 | G15: 29.4317 | H15: 29.5124 | I15: 29.2136
A16: 总资产净利润率(%) | B16: 14.7494 | C16: 13.3884 | D16: 11.8849 | E16: 11.1345 | F16: 13.5843 | G16: 14.4811 | H16: 16.0215 | I16: 19.7194
A17: 成本费用利润率(%) | B17: 11.602 | C17: 10.9103 | D17: 10.7569 | E17: 10.893 | F17: 11.5222 | G17: 14.1436 | H17: 15.4178 | I17: 19.7507
A18: 营业利润率(%) | B18: 10.3961 | C18: 9.5566 | D18: 9.2411 | E18: 9.6467 | F18: 10.3529 | G18: 12.1347 | H18: 13.179 | I18: 16.6865
A19: 主营业务成本率(%) | B19: 70.9828 | C19: 69.0126 | D19: 69.157 | E19: 69.6459 | F19: 69.5232 | G19: 70.0281 | H19: 69.9796 | I19: 70.3037
A20: 销售净利率(%) | B20: 8.7207 | C20: 8.2168 | D20: 8.0992 | E20: 8.4943 | F20: 9.1941 | G20: 10.7043 | H20: 11.5623 | I20: 14.679
A21: 股本报酬率(%) | B21: 93.708 | C21: 110.593 | D21: 138.7437 | E21: 169.7207 | F21: 174.2101 | G21: 211.5863 | H21: 272.6197 | I21: 393.8526
A22: 净资产报酬率(%) | B22: 39.6579 | C22: 37.5728 | D22: 23.2522 | E22: 24.9704 | F22: 27.3975 | G22: 26.4428 | H22: 26.9336 | I22: 30.2852
A23: 资产报酬率(%) | B23: 20.7244 | C23: 18.6971 | D23: 15.0078 | E23: 15.0931 | F23: 15.8453 | G23: 16.1587 | H23: 17.7486 | I23: 21.2282
A24: 销售毛利率(%) | B24: 28.9703 | C24: 31.1373 | D24: 30.843 | E24: 30.3541 | F24: 30.4768 | G24: 29.9719 | H24: 30.5655 | I24: 29.6963
A25: 三项费用比重 | B25: 17.8587 | C25: 18.8602 | D25: 20.497 | E25: 20.1614 | F25: 19.2614 | G25: 17.369 | H25: 16.2266 | I25: 15.6963
... A28: 股息发放率(%) | B28: 0.003 | C28: 0.0025 | D28: 0.0057 | E28: 0.0014 | F28: 0.0009 | G28: 0.0007 | H28: 0.0005 | I28: 0.0039
A29: 投资收益率(%) | B29: -8.3393 | C29: -- | D29: -- | E29: 11.17 | F29: -- | G29: -- | H29: -- | I29: --
A30: 主营业务利润(元) | B30: 9.118404e+08 | C30: 1.2517387e+09 | D30: 1.7344888e+09 | E30: 2.1397097e+09 | F30: 2.9923029e+09 | G30: 3.3294126e+09 | H30: 4.039316e+09 | I30: 4.6200649e+09
A31: 净资产收益率(%) | B31: 26.23 | C31: 25 | D31: 14.84 | E31: 16.86 | F31: 20.98 | G31: 21.8 | H31: 22.52 | I31: 25.71
A32: 加权净资产收益率(%) | B32: 29.32 | C32: 28.18 | D32: 29.4 | E32: 17.98 | F32: 23.07 | G32: 24.29 | H32: 25.16 | I32: 28.94
A33: 扣除非经常性损益后的净利润(元) | B33: 2.7563517e+08 | C33: 3.3353024e+08 | D33: 4.4341289e+08 | E33: 5.872206e+08 | F33: 9.2538358e+08 | G33: 1.1812048e+09 | H33: 1.5585703e+09 | I33: 1.8655914e+09
A34: 成长能力
A35: 主营业务收入增长率(%) | B35: 30.8762 | C35: 28.4409 | D35: 39.0572 | E35: 25.3108 | F35: 40.4872 | G35: 12.2762 | H35: 20.9904 | I35: 15.5476
A36: 净利润增长率(%) | B36: 18.7885 | C36: 21.0199 | D36: 37.0662 | E36: 31.4247 | F36: 52.0602 | G36: 30.7191 | H36: 30.6884 | I36: 46.6939
A37: 净资产增长率(%) | B37: 27.9896 | C37: 24.5682 | D37: 123.6593 | E37: 13.9093 | F37: 21.6177 | G37: 25.8397 | H37: 26.4976 | I37: 28.4817
A38: 总资产增长率(%) | B38: 36.7508 | C38: 30.8159 | D38: 72.4378 | E38: 21.6355 | F38: 27.1043 | G38: 19.0993 | H38: 17.3035 | I38: 20.7891
A39: 营运能力
A40: 应收账款周转率(次) | B40: 22.6655 | C40: 23.9151 | D40: 32.1924 | E40: 36.1497 | F40: 28.944 | G40: 25.8841 | H40: 31.3027 | I40: 31.7064
A41: 应收账款周转天数(天) | B41: 15.8832 | C41: 15.0533 | D41: 11.1828 | E41: 9.9586 | F41: 12.4378 | G41: 13.9082 | H41: 11.5006 | I41: 11.3542
A42: 存货周转天数(天) | B42: 91.0263 | C42: 105.4482 | D42: 105.2724 | E42: 106.3327 | F42: 112.4965 | G42: 142.3488 | H42: 148.3863 | I42: 147.6075
...
