Workbook

Sheet Macro1

Sheet 合并资产负债表
A1: 合并资产负债表
A2: 会企01表
A3: 编制单位：母公司 2014年12月31日 单位：元
A4: 资产 | B4: 行 | C4: 期末数 | D4: 年初数 | E4: 负债及所有者权益 | F4: 行 | G4: 期末数 | H4: 年初数
A5: 流动资产： | E5: 流动负债：
A6: 货币资金 | B6: 01 | C6: =本期合并底稿!J5 -> 7.1294357e+08 | D6: 7.4748335e+08 | E6: 短期借款 | F6: 71 | G6: =本期合并底稿!J39 -> 0 | H6: 0
A7: 以公允价值计量且其变动计入当期损益的金融资产 | B7: 02 | C7: =本期合并底稿!J6 -> 6.806742e+08 | D7: 3.9883942e+08 | E7: 以公允价值计量且其变动计入当期损益的金融负债 | F7: 72 | G7: =本期合并底稿!J40 -> 0 | H7: 0
A8: 应收票据 | B8: 03 | C8: =本期合并底稿!J7 -> 1586604 | D8: 2235558.6 | E8: 应付票据 | F8: 73 | G8: =本期合并底稿!J41 -> 0 | H8: 6399042.1
A9: 应收账款 | B9: 04 | C9: =本期合并底稿!J8 -> 1.0257919e+08 | D9: 3.2483067e+08 | E9: 应付账款 | F9: 74 | G9: =本期合并底稿!J42 -> 4.0780205e+08 | H9: 8.0423369e+08
A10: 预付款项 | B10: 06 | C10: =本期合并底稿!J9 -> 1.9982597e+08 | D10: 6.9609609e+08 | E10: 预收账款 | F10: 76 | G10: =本期合并底稿!J43 -> 9.0452348e+08 | H10: 1.4408699e+09
A11: 应收利息 | B11: 07 | C11: =本期合并底稿!J10 -> 582694.44 | D11: 694756.94 | E11: 应付职工薪酬 | F11: 78 | G11: =本期合并底稿!J44 -> 9102706.6 | H11: 16486232
A12: 应收股利 | B12: 09 | C12: =本期合并底稿!J11 -> 616500 | D12: 0 | E12: 应交税费 | F12: 79 | G12: =本期合并底稿!J48 -> 104508.72 | H12: -1717942.4
A13: 其他应收款 | B13: 10 | C13: =本期合并底稿!J12 -> 58743600 | D13: 65400097 | E13: 应付利息 | F13: 80 | G13: =本期合并底稿!J49 -> 0 | H13: 0
A14: 其中：应收出口退税 | B14: 11 | C14: =本期合并底稿!J13 -> 25295426 | D14: 31451593 | E14: 应付股利 | F14: 81 | G14: =本期合并底稿!J50 -> 0 | H14: 54000
A15: 存货 | B15: 14 | C15: =本期合并底稿!J14 -> 1.1268546e+08 | D15: 3.2035884e+08 | E15: 其他应付款 | F15: 85 | G15: =本期合并底稿!J51 -> 3.4226119e+08 | H15: 1.4642154e+08
A16: 持有待售资产 | C16: =本期合并底稿!J16 -> 0 | E16: 持有待售负债 | G16: =本期合并底稿!J52 -> 0
A17: 一年内到期的非流动资产 | B17: 21 | C17: =本期合并底稿!J17 -> 0 | D17: 0 | E17: 一年内到期的非流动资产 | F17: 89 | G17: =本期合并底稿!J53 -> 0 | H17: 0
A18: 其他流动资产 | B18: 28 | C18: =本期合并底稿!J18 -> 0 | D18: 827545.15 | E18: 其他流动负债 | F18: 95 | G18: =本期合并底稿!J54 -> 0 | H18: 0
A19: 流动资产合计 | B19: 35 | C19: =SUM(C6:C9,C10:C11,C12:C13,C15:C18) -> 1.8702378e+09 | D19: =SUM(D6:D9,D10:D11,D12:D13,D15:D18) -> 2.5567663e+09 | E19: 流动负债合计 | F19: 100 | G19: =SUM(G6:G9,G10,G11:G15,G17:G18) -> 1.6637939e+09 | H19: =SUM(H6:H9,H10,H11:H15,H17:H18) -> 2.4127465e+09
A20: 非流动资产： | E20: 非流动负债： | F20: 101
A21: 可供出售金融资产 | B21: 36 | C21: =本期合并底稿!J21 -> 26457627 | E21: 长期借款 | F21: 102 | G21: =本期合并底稿!J57 -> 0 | H21: 0
A22: 持有至到期投资 | B22: 37 | C22: =本期合并底稿!J22 -> 0 | E22: 应付债券 | F22: 103 | G22: =本期合并底稿!J58 -> 0 | H22: 0
A23: 长期应收款 | B23: 38 | C23: =本期合并底稿!J23 -> 0 | E23: 长期应付款 | F23: 104 | G23: =本期合并底稿!J59 -> 3643040.9 | H23: 3695208.9
A24: 长期股权投资 | B24: 39 | C24: =本期合并底稿!J24 -> 0 | E24: 专项应付款 | F24: 106 | G24: =本期合并底稿!J60 -> 0 | H24: 0
A25: 固定资产原值 | B25: 40 | C25: =本期合并底稿!J25 -> 41946831 | D25: 1.2661794e+08 | E25: 递延所得税负债 | F25: 111 | G25: =本期合并底稿!J61 -> 520607.34 | H25: 288900.04
A26: 减：累计折旧 | B26: 41 | C26: =本期合并底稿!J26 -> 19028411 | D26: 51161606 | E26: 其他非流动负债 | F26: 116 | G26: =本期合并底稿!J62 -> 0 | H26: 850000
A27: 固定资产净值 | B27: 42 | C27: =C25-C26 -> 22918420 | D27: =D25-D26 -> 75456330 | E27: 长期负债合计 | F27: 117 | G27: =SUM(G21:G23,G24:G26) -> 4163648.2 | H27: =SUM(H21:H23,H24:H26) -> 4834108.9
A28: 在建工程 | B28: 43 | C28: =本期合并底稿!J28 -> 0 | D28: 0 | E28: 负债合计 | F28: 125 | G28: =SUM(G19,G27) -> 1.6679576e+09 | H28: =SUM(H19,H27) -> 2.4175806e+09
A29: 工程物资 | B29: 44 | E29: 所有者权益： | F29: 127
A30: 固定资产清理 | B30: 45 | E30: 实收资本 | F30: 128 | G30: =本期合并底稿!J66 -> 80000000 | H30: 80000000
A31: 无形资产 | B31: 46 | C31: =本期合并底稿!J31 -> 68687.68 | D31: 1081535.8 | E31: 资本公积 | F31: 129 | G31: =本期合并底稿!J67 -> 24991291 | H31: 24991291
A32: 长期待摊费用 | B32: 47 | C32: =本期合并底稿!J32 -> 486467.37 | D32: 2807005 | E32: 其他综合收益 | F32: 130 | G32: =本期合并底稿!J68 -> -282243.18 | H32: -306643.26
A33: 递延所得税资产 | B33: 48 | C33: =本期合并底稿!J33 -> 10549366 | D33: 11996073 | E33: 盈余公积 | F33: 131 | G33: =本期合并底稿!J69 -> 40745328 | H33: 35024417
E34: 其中：法定盈余公积 | F34: 133 | G34: =本期合并底稿!J70 -> 33724331 | H34: 28008923
E35: 任意盈余公积 | F35: 134 | G35: =本期合并底稿!J71 -> 7020997.3 | H35: 7020997.3
E36: 未分配利润 | F36: 136 | G36: =本期合并底稿!J72 -> 1.0287049e+08 | H36: =合并权益变动表!G10 -> 76650144
E37: 归属于母公司股东权益合计 | F37: 145 | G37: =SUM(G30:G33,G36) -> 2.4832486e+08 | H37: =SUM(H30:H33,H36:H36) -> 2.1635921e+08
A38: 其他非流动资产 | B38: 58 | C38: =本期合并底稿!J34 -> 0 | D38: 0 | E38: 少数股东权益 | F38: 146 | G38: =本期合并底稿!J74 -> 14435896 | H38: 14167494
A39: 非流动资产合计 | B39: 59 | C39: =SUM(C21:C24,C27:C38) -> 60480569 | D39: =SUM(D21:D24,D27:D38) -> 91340944 | E39: 所有者权益合计 | F39: 149 | G39: =G37+G38 -> 2.6276076e+08 | H39: =H37+H38 -> 2.305267e+08
A40: 资产总计 | B40: 60 | C40: =SUM(C19,C39) -> 1.9307183e+09 | D40: =SUM(D19,D39) -> 2.6481073e+09 | E40: 负债及所有者权益总计 | F40: 150 | G40: =SUM(G28,G39) -> 1.9307183e+09 | H40: =SUM(H28,H39) -> 2.6481073e+09
...

Sheet 合并利润表
A1: 合并利润表
D2: 会企02表
A3: 编制单位：母公司 2014年12月 单位：元
A4: 项目 | B4: 行 | C4: 本年金额 | D4: 上年金额
A5: 一、营业总收入 | B5: 01 | C5: =本期合并底稿!J80 -> 6.6997798e+08
A6: 其中：主营业务收入 | B6: 02 | C6: =本期合并底稿!J81 -> 6.6354255e+08
A7: 其他业务收入 | B7: 03 | C7: =本期合并底稿!J82 -> 6435431.7
A8: 二、营业总成本 | B8: 05 | C8: =C9+C12+C13+C14+C15+C19 -> 6.5669204e+08 | D8: =D9+D12+D13+D14+D15+D19 -> 0
A9: 其中：营业成本 | B9: 06 | C9: =本期合并底稿!J84 -> 6.032703e+08
A10: 其中：主营业务成本 | B10: 07 | C10: =本期合并底稿!J85 -> 6.032703e+08
A11: 其他业务成本 | B11: 08 | C11: =本期合并底稿!J86 -> 0
A12: 营业税金及附加 | B12: 09 | C12: =本期合并底稿!J87 -> 3606815.4
A13: 销售费用 | B13: 10 | C13: =本期合并底稿!J88 -> 24031603
A14: 管理费用 | B14: 11 | C14: =本期合并底稿!J89 -> 34774340
A15: 财务费用 | B15: 12 | C15: =本期合并底稿!J90 -> -11134873
A16: 其中：利息支出 | B16: 13 | C16: =本期合并底稿!J91 -> -35000
A17: 利息收入 | B17: 14 | C17: =本期合并底稿!J92 -> 8777114.9
A18: 汇兑净损失 | B18: 15 | C18: =本期合并底稿!J93 -> -4356914.7
A19: 资产减值损失 | B19: 16 | C19: =本期合并底稿!J94 -> 2143848.8
A20: 加：公允价值变动净收益（净损失以“-”号填列） | B20: 17 | C20: =本期合并底稿!J95 -> 1038891.7
... A22: 其中：对联营企业和合营企业的投资收益 | B22: 19 | C22: =本期合并底稿!J97 -> 0
A23: 三、营业利润 | B23: 21 | C23: =C5-C8+C20+C21 -> 69424094 | D23: =D5-D8+D20+D21 -> 0
A24: 加：营业外收入 | B24: 22 | C24: =本期合并底稿!J99 -> 991043.37
A25: 其中：非流动资产处置收益 | B25: 23 | C25: =本期合并底稿!J100 -> 18753.72
A26: 非货币性资产交换利得（非货币性交易收益） | B26: 24 | C26: =本期合并底稿!J101 -> 0
A27: 政府补助（补贴收入） | B27: 25 | C27: =本期合并底稿!J102 -> 14477.23
A28: 其他 | B28: 26 | C28: =本期合并底稿!J103 -> 0
A29: 减：营业外支出 | B29: 28 | C29: =本期合并底稿!J104 -> 338611.02
A30: 其中：非流动资产处置损失 | B30: 29 | C30: =本期合并底稿!J105 -> 33624
A31: 罚款支出 | B31: 30 | C31: =本期合并底稿!J106 -> 281329
A32: 其他 | B32: 31 | C32: =本期合并底稿!J107 -> 2000
A33: 四、利润总额 | B33: 41 | C33: =C23+C24-C29 -> 70076526 | D33: =D23+D24-D29 -> 0
A34: 减：所得税费用 | B34: 42 | C34: =本期合并底稿!J109 -> 8489769.5
A35: 五、净利润 | B35: 45 | C35: =C33-C34 -> 61586757 | D35: =D33-D34 -> 0
A36: 减：少数股东损益 | B36: 46 | C36: =本期合并底稿!J111 -> 3612402.5
A37: 归属于母公司所有者的净利润 | B37: 47 | C37: =C35-C36 -> 57974354 | D37: =D35-D36 -> 0
A38: 六、其他综合收益的税后净额 | B38: 51 | C38: =C39+C49 -> 24400.08 | D38: =D39+D49 -> 0
A39: 归属于母公司所有者的其他综合收益的税后净额 | B39: 52 | C39: =C40+C43 -> 24400.08 | D39: =D40+D43 -> 0
A40: （一）以后不能重分类进损益的其他综合收益 | B40: 53 | C40: =SUM(C41:C42) -> 0 | D40: =SUM(D41:D42) -> 0
A41: 1.重新计量设定收益计划净负债或净资产的变动 | B41: 54
...

Sheet 合并现金流量表
A1: 合并现金流量表
A2: 会企03表
A3: 编制单位：母公司 2014年12月 单位：元
A4: 项目 | B4: 行 | C4: 本年金额 | D4: 上年金额 | E4: 2010年9月金额
A5: 一、经营活动产生的现金流量
A6: 销售商品、提供劳务收到的现金 | B6: 01 | C6: =本期合并底稿!J151 -> 2.8693749e+09 | E6: 2.6156772e+09
A7: 收到的税费返还 | B7: 03 | C7: =本期合并底稿!J152 -> 24209192 | E7: 26574048
A8: 收到的其他与经营活动有关的现金 | B8: 08 | C8: =本期合并底稿!J153 -> 3.8713222e+08 | E8: 2.6433383e+08
A9: 经营活动现金流入小计 | B9: 09 | C9: =SUM(C6:C8) -> 3.2807163e+09 | D9: =SUM(D6:D8) -> 0 | E9: =SUM(E6:E8) -> 2.9065851e+09
A10: 购买商品、接受劳务支付的现金 | B10: 10 | C10: =本期合并底稿!J155 -> 2.8747211e+09 | E10: 2.6002772e+09
A11: 支付给职工以及为职工支付的现金 | B11: 12 | C11: =本期合并底稿!J156 -> 29092082 | E11: 37933648
A12: 支付的各项税费 | B12: 13 | C12: =本期合并底稿!J157 -> 18381598 | E12: 42467303
A13: 支付的其他与经营活动有关的现金 | B13: 18 | C13: =本期合并底稿!J158 -> 54358373 | E13: 1.0485309e+08
A14: 经营活动现金流出小计 | B14: 20 | C14: =SUM(C10:C13) -> 2.9765531e+09 | D14: =SUM(D10:D13) -> 0 | E14: =SUM(E10:E13) -> 2.7855312e+09
A15: 经营活动产生的现金流量净额 | B15: 21 | C15: =C9-C14 -> 3.0416317e+08 | D15: =D9-D14 -> 0 | E15: =E9-E14 -> 1.2105388e+08
A16: 二、投资活动产生的现金流量
A17: 收回投资所收到的现金 | B17: 22 | C17: =本期合并底稿!J162 -> 2.9302943e+08 | E17: 209496960
A18: 取得投资收益收到的现金 | B18: 23 | C18: =本期合并底稿!J163 -> 41169231 | E18: 27041280
A19: 处置固定资产、无形资产和其他长期资产收回的现金净额 | B19: 25 | C19: =本期合并底稿!J164 -> 41080 | E19: 162709.3
A20: 处置子公司及其他营业单位收到的现金净额 | B20: 26 | C20: =本期合并底稿!J165 -> 0 | E20: 1103597.2
A21: 收到的其他与投资活动有关的现金 | B21: 28 | C21: =本期合并底稿!J166 -> 360000 | E21: 1.7988556e+08
A22: 投资活动现金流入小计 | B22: 29 | C22: =SUM(C17:C21) -> 3.3459974e+08 | D22: =SUM(D17:D21) -> 0 | E22: =SUM(E17:E21) -> 4.1769011e+08
A23: 购建固定资产、无形资产和其他长期资产支付的现金 | B23: 30 | C23: =本期合并底稿!J168 -> 342137.33 | E23: 9380220
A24: 投资支付的现金 | B24: 31 | C24: =本期合并底稿!J169 -> 6.3583806e+08 | E24: 4.1249433e+08
A25: 取得子公司及其他营业单位支付的现金净额 | B25: 32 | C25: =本期合并底稿!J170 -> 0 | E25: 0
A26: 支付的其他与投资活动有关的现金 | B26: 35 | C26: =本期合并底稿!J171 -> 41548 | E26: 1.7959604e+08
A27: 投资活动现金流出小计 | B27: 36 | C27: =SUM(C23:C26) -> 6.3622175e+08 | D27: =SUM(D23:D26) -> 0 | E27: =SUM(E23:E26) -> 6.0147059e+08
A28: 投资活动产生的现金流量净额 | B28: 37 | C28: =C22-C27 -> -3.0162201e+08 | D28: =D22-D27 -> 0 | E28: =E22-E27 -> -1.8378048e+08
A29: 三、筹资活动产生的现金流量
A30: 吸收投资收到的现金 | B30: 38 | C30: =本期合并底稿!J175 -> 0 | E30: 720
A31: 其中：子公司吸收少数股东投资收到的现金 | B31: 39 | C31: =本期合并底稿!J176 -> 0 | E31: 0
A32: 取得借款收到的现金 | B32: 40 | C32: =本期合并底稿!J177 -> -6000000 | E32: 4500000
A33: 收到其他与筹资活动有关的现金 | B33: 43 | C33: =本期合并底稿!J178 -> 0 | E33: 0
A34: 筹资活动现金流入小计 | B34: 44 | C34: =SUM(C30,C32:C33) -> -6000000 | D34: =SUM(D30,D32:D33) -> 0 | E34: =SUM(E30,E32:E33) -> 4500720
A35: 偿还债务支付的现金 | B35: 45 | C35: =本期合并底稿!J180 -> -1000000 | E35: 10535046
A36: 分配股利、利润或偿付利息支付的现金 | B36: 46 | C36: =本期合并底稿!J181 -> 29396100 | E36: 47181312
A37: 其中：子公司支付给少数股东的股利、利润 | B37: 47 | C37: =本期合并底稿!J182 -> 0 | E37: 0
A38: 支付其他与筹资活动有关的现金 | B38: 52 | C38: =本期合并底稿!J183 -> 0 | E38: 0
A39: 筹资活动现金流出小计 | B39: 53 | C39: =SUM(C35:C36,C38) -> 28396100 | D39: =SUM(D35:D36,D38) -> 0 | E39: =SUM(E35:E36,E38) -> 57716358
A40: 筹资活动产生的现金流量净额 | B40: 54 | C40: =C34-C39 -> -34396100 | D40: =D34-D39 -> 0 | E40: =E34-E39 -> -53215638
...

Sheet 合并权益变动表
A1: 合并所有者权益变动表
J2: 会企04表
A3: 编制单位：母公司 | F3: 2014年 | J3: 单位：元
A4: 项目 | B4: 行 | C4: 本年金额
C5: 归属于母公司所有者权益 | I5: 少数股东权益 | J5: 所有者权益合计
C6: 实收资本 | D6: 资本公积 | E6: 其他综合收益 | F6: 盈余公积 | G6: 未分配利润 | H6: 小计
A7: 一、上年末余额 | B7: 01 | C7: 80000000 | D7: 24991291 | E7: -306643.26 | F7: 35024417 | G7: 76650144 | H7: =SUM(C7:G7) -> 2.1635921e+08 | I7: 14167494 | J7: =SUM(H7:I7) -> 2.305267e+08
A8: 加：会计政策变更 | B8: 02 | H8: =SUM(C8:G8) -> 0 | J8: =SUM(H8:I8) -> 0
A9: 前期差错更正 | B9: 03 | H9: =SUM(C9:G9) -> 0 | J9: =SUM(H9:I9) -> 0
A10: 二、本年年初余额 | B10: 06 | C10: =C7+C8+C9 -> 80000000 | D10: =D7+D8+D9 -> 24991291 | E10: =E7+E8+E9 -> -306643.26 | F10: =F7+F8+F9 -> 35024417 | G10: =G7+G8+G9 -> 76650144 | H10: =SUM(C10:G10) -> 2.1635921e+08 | I10: =I7+I8+I9 -> 14167494 | J10: =SUM(H10:I10) -> 2.305267e+08
A11: 三、本年增减变动金额（减少以“-”号填列） | B11: 10 | C11: =C12+C13+C16+C20 -> 0 | D11: =D12+D13+D16+D20 -> 0 | E11: =E12+E13+E16+E20 -> 24400.08 | F11: =F12+F13+F16+F20 -> 5720911.7 | G11: =G12+G13+G16+G20 -> 26220343 | H11: =SUM(C11:G11) -> 31965654 | I11: =I12+I13+I16+I20 -> 268402.5 | J11: =SUM(H11:I11) -> 32234057
A12: （一）综合收益总额 | B12: 11 | E12: =本期合并底稿!J113 -> 24400.08 | G12: =合并利润表!C37 -> 57974354 | H12: =SUM(C12:G12) -> 57998754 | I12: =本期合并底稿!G134 -> 3612402.5 | J12: =SUM(H12:I12) -> 61611157
A13: （三）所有者投入和减少资本 | B13: 26 | C13: =SUM(C14:C15) -> 0 | D13: =SUM(D14:D15) -> 0 | E13: =SUM(E14:E15) -> 0 | F13: =SUM(F14:F15) -> 0 | G13: =SUM(G14:G15) -> 0 | H13: =SUM(C13:G13) -> 0 | I13: =SUM(I14:I15) -> 0 | J13: =SUM(H13:I13) -> 0
A14: 1. 所有者投入资本 | B14: 27 | I14: =本期合并底稿!G143 -> 0 | J14: =SUM(H14:I14) -> 0
A15: 2．其他 | B15: 29 | G15: =-本期合并底稿!G136 -> 0 | H15: =SUM(C15:G15) -> 0 | J15: =SUM(H15:I15) -> 0
A16: （四）利润分配 | B16: 31 | C16: =SUM(C17:C19) -> 0 | D16: =SUM(D17:D19) -> 0 | E16: =SUM(E17:E19) -> 0 | F16: =SUM(F17:F19) -> 5720911.7 | G16: =SUM(G17:G19) -> -31754012 | H16: =SUM(C16:G16) -> -26033100 | I16: =SUM(I17:I19) -> -3344000 | J16: =SUM(H16:I16) -> -29377100
A17: 1．提取盈余公积 | B17: 32 | F17: =本期合并底稿!J126+本期合并底稿!J128 -> 5720911.7 | G17: =-F17 -> -5720911.7 | H17: =SUM(C17:G17) -> 0 | J17: =SUM(H17:I17) -> 0
A18: 2．对所有者（或股东）的分配 | B18: 33 | G18: =-本期合并底稿!J129 -> -26033100 | H18: =SUM(C18:G18) -> -26033100 | I18: =-本期合并底稿!G140 -> -3344000 | J18: =SUM(H18:I18) -> -29377100
A19: 3．其他 | B19: 34 | H19: =SUM(C19:G19) -> 0 | J19: =SUM(H19:I19) -> 0
A20: （五）所有者权益内部结转 | B20: 36 | C20: =SUM(C21:C24) -> 0 | D20: =SUM(D21:D24) -> 0 | E20: =SUM(E21:E24) -> 0 | F20: =SUM(F21:F24) -> 0 | G20: =SUM(G21:G24) -> 0 | H20: =SUM(C20:G20) -> 0 | I20: =SUM(I21:I24) -> 0 | J20: =SUM(H20:I20) -> 0
A21: 1．资本公积转增资本（或股本） | B21: 37 | H21: =SUM(C21:G21) -> 0 | J21: =SUM(H21:I21) -> 0
A22: 2．盈余公积转增资本（或股本） | B22: 38 | H22: =SUM(C22:G22) -> 0 | J22: =SUM(H22:I22) -> 0
A23: 3．盈余公积弥补亏损 | B23: 39 | H23: =SUM(C23:G23) -> 0 | J23: =SUM(H23:I23) -> 0
A24: 4．其他 | B24: 40 | H24: =SUM(C24:G24) -> 0 | J24: =SUM(H24:I24) -> 0
A25: 四、本年年末余额 | B25: 50 | C25: =C10+C11 -> 80000000 | D25: =D10+D11 -> 24991291 | E25: =E10+E11 -> -282243.18 | F25: =F10+F11 -> 40745328 | G25: =G10+G11 -> 1.0287049e+08 | H25: =SUM(C25:G25) -> 2.4832486e+08 | I25: =I10+I11 -> 14435896 | J25: =SUM(H25:I25) -> 2.6276076e+08
A26: 单位负责人： 财务负责人： 复核： 制表：
C27: =IF(ROUND(C25-合并资产负债表!G30,2)=0," ","误") | D27: =IF(ROUND(D25-合并资产负债表!G31,2)=0," ","误") | E27: =IF(ROUND(E25-合并资产负债表!G32,2)=0," ","误") | F27: =IF(ROUND(F25-合并资产负债表!G33,2)=0," ","误") | G27: =IF(ROUND(G25-合并资产负债表!G36,2)=0," ","误") | I27: =IF(ROUND(I25-合并资产负债表!G38,2)=0," ","误") -> 误 | J27: =IF(ROUND(J25-合并资产负债表!G39,2)=0," ","误") -> 误
D28: =D25-合并资产负债表!G31 -> 0 | E28: =E25-合并资产负债表!G32 -> 0 | F28: =F25-合并资产负债表!G33 -> 0 | G28: =G25-合并资产负债表!G36 -> 0 | I28: =I25-合并资产负债表!G38 -> 0.01 | J28: =J25-合并资产负债表!G39 -> 0.01
I29: 净利润审核 | J29: =J12-合并利润表!C50 -> 0

Sheet 本期合并底稿
A1: 项目 | B1: 科目代码 | C1: 母公司 | D1: 子公司A | F1: 境外子公司B | G1: 总计 | H1: 调整分录 | J1: 合并
H2: 借 | I2: 贷
A3: 资产
A4: 流动资产：
A5: 货币资金 | B5: A001 | C5: 3.1892302e+08 | D5: 3.6816792e+08 | F5: 25852629 | G5: =SUM(C5:F5) -> 7.1294357e+08 | H5: =SUMIF(本期抵消分录!C:C,B5,本期抵消分录!E:E) -> 0 | I5: =SUMIF(本期抵消分录!C:C,B5,本期抵消分录!F:F) -> 0 | J5: =G5+H5-I5 -> 7.1294357e+08
A6: 以公允价值计量且其变动计入当期损益的金融资产 | B6: A002 | C6: 6.806742e+08 | D6: 0 | F6: 0 | G6: =SUM(C6:F6) -> 6.806742e+08 | H6: =SUMIF(本期抵消分录!C:C,B6,本期抵消分录!E:E) -> 0 | I6: =SUMIF(本期抵消分录!C:C,B6,本期抵消分录!F:F) -> 0 | J6: =G6+H6-I6 -> 6.806742e+08
A7: 应收票据 | B7: A003 | C7: 1586604 | D7: 0 | F7: 0 | G7: =SUM(C7:F7) -> 1586604 | H7: =SUMIF(本期抵消分录!C:C,B7,本期抵消分录!E:E) -> 0 | I7: =SUMIF(本期抵消分录!C:C,B7,本期抵消分录!F:F) -> 0 | J7: =G7+H7-I7 -> 1586604
A8: 应收账款 | B8: A004 | C8: 74935354 | D8: 27034339 | F8: 609492.12 | G8: =SUM(C8:F8) -> 1.0257919e+08 | H8: =SUMIF(本期抵消分录!C:C,B8,本期抵消分录!E:E) -> 0 | I8: =SUMIF(本期抵消分录!C:C,B8,本期抵消分录!F:F) -> 0 | J8: =G8+H8-I8 -> 1.0257919e+08
A9: 预付款项 | B9: A005 | C9: 55342134 | D9: 1.444687e+08 | F9: 15134.47 | G9: =SUM(C9:F9) -> 1.9982597e+08 | H9: =SUMIF(本期抵消分录!C:C,B9,本期抵消分录!E:E) -> 0 | I9: =SUMIF(本期抵消分录!C:C,B9,本期抵消分录!F:F) -> 0 | J9: =G9+H9-I9 -> 1.9982597e+08
A10: 应收利息 | B10: A006 | C10: 582694.44 | D10: 0 | F10: 0 | G10: =SUM(C10:F10) -> 582694.44 | H10: =SUMIF(本期抵消分录!C:C,B10,本期抵消分录!E:E) -> 0 | I10: =SUMIF(本期抵消分录!C:C,B10,本期抵消分录!F:F) -> 0 | J10: =G10+H10-I10 -> 582694.44
A11: 应收股利 | B11: A007 | C11: 616500 | D11: 0 | F11: 0 | G11: =SUM(C11:F11) -> 616500 | H11: =SUMIF(本期抵消分录!C:C,B11,本期抵消分录!E:E) -> 0 | I11: =SUMIF(本期抵消分录!C:C,B11,本期抵消分录!F:F) -> 0 | J11: =G11+H11-I11 -> 616500
A12: 其他应收款 | B12: A008 | C12: 45770157 | D12: 17973442 | F12: 0 | G12: =SUM(C12:F12) -> 63743600 | H12: =SUMIF(本期抵消分录!C:C,B12,本期抵消分录!E:E) -> 0 | I12: =SUMIF(本期抵消分录!C:C,B12,本期抵消分录!F:F) -> 5000000 | J12: =G12+H12-I12 -> 58743600
A13: 其中：应收出口退税 | B13: A009 | C13: 2229028 | D13: 23066398 | F13: 0 | G13: =SUM(C13:F13) -> 25295426 | H13: =SUMIF(本期抵消分录!C:C,B13,本期抵消分录!E:E) -> 0 | I13: =SUMIF(本期抵消分录!C:C,B13,本期抵消分录!F:F) -> 0 | J13: =G13+H13-I13 -> 25295426
A14: 存货 | B14: A010 | C14: 72640261 | D14: 40045196 | F14: 0 | G14: =SUM(C14:F14) -> 1.1268546e+08 | H14: =SUMIF(本期抵消分录!C:C,B14,本期抵消分录!E:E) -> 0 | I14: =SUMIF(本期抵消分录!C:C,B14,本期抵消分录!F:F) -> 0 | J14: =G14+H14-I14 -> 1.1268546e+08
A15: 其中：存货减值准备 | C15: 400740 | D15: 0 | F15: 0 | G15: =SUM(C15:F15) -> 400740 | J15: =G15+H15-I15 -> 400740
A16: 持有待售资产 | B16: A055 | C16: 0 | D16: 0 | F16: 0 | G16: =SUM(C16:F16) -> 0 | H16: =SUMIF(本期抵消分录!C:C,B16,本期抵消分录!E:E) -> 0 | I16: =SUMIF(本期抵消分录!C:C,B16,本期抵消分录!F:F) -> 0 | J16: =G16+H16-I16 -> 0
A17: 一年内到期的非流动资产 | B17: A011 | C17: 0 | D17: 0 | F17: 0 | G17: =SUM(C17:F17) -> 0 | H17: =SUMIF(本期抵消分录!C:C,B17,本期抵消分录!E:E) -> 0 | I17: =SUMIF(本期抵消分录!C:C,B17,本期抵消分录!F:F) -> 0 | J17: =G17+H17-I17 -> 0
A18: 其他流动资产 | B18: A012 | C18: 0 | D18: 0 | F18: 0 | G18: =SUM(C18:F18) -> 0 | H18: =SUMIF(本期抵消分录!C:C,B18,本期抵消分录!E:E) -> 0 | I18: =SUMIF(本期抵消分录!C:C,B18,本期抵消分录!F:F) -> 0 | J18: =G18+H18-I18 -> 0
A19: 流动资产合计 | C19: =SUM(C5:C12,C14,C17:C18) -> 1.2510709e+09 | D19: =SUM(D5:D12,D14,D17:D18) -> 5.976896e+08 | F19: =SUM(F5:F12,F14,F17:F18) -> 26477256 | G19: =SUM(G5:G12,G14,G17:G18) -> 1.8752378e+09 | H19: =SUM(H5:H12,H14,H17:H18) -> 0 | I19: =SUM(I5:I12,I14,I17:I18) -> 5000000 | J19: =SUM(J5:J12,J14,J17:J18) -> 1.8702378e+09
A20: 非流动资产：
A21: 可供出售金融资产 | B21: A013 | C21: 15710000 | D21: 10747627 | F21: 0 | G21: =SUM(C21:F21) -> 26457627 | H21: =SUMIF(本期抵消分录!C:C,B21,本期抵消分录!E:E) -> 0 | I21: =SUMIF(本期抵消分录!C:C,B21,本期抵消分录!F:F) -> 0 | J21: =G21+H21-I21 -> 26457627
A22: 持有至到期投资 | B22: A014 | D22: 0 | F22: 0 | G22: =SUM(C22:F22) -> 0 | H22: =SUMIF(本期抵消分录!C:C,B22,本期抵消分录!E:E) -> 0 | I22: =SUMIF(本期抵消分录!C:C,B22,本期抵消分录!F:F) -> 0 | J22: =G22+H22-I22 -> 0
A23: 长期应收款 | B23: A015 | C23: 0 | D23: 0 | F23: 0 | G23: =SUM(C23:F23) -> 0 | H23: =SUMIF(本期抵消分录!C:C,B23,本期抵消分录!E:E) -> 0 | I23: =SUMIF(本期抵消分录!C:C,B23,本期抵消分录!F:F) -> 0 | J23: =G23+H23-I23 -> 0
A24: 长期股权投资 | B24: A016 | C24: 8445211.9 | D24: 0 | F24: 0 | G24: =SUM(C24:F24) -> 8445211.9 | H24: =SUMIF(本期抵消分录!C:C,B24,本期抵消分录!E:E) -> 0 | I24: =SUMIF(本期抵消分录!C:C,B24,本期抵消分录!F:F) -> 8445211.9 | J24: =G24+H24-I24 -> 0
A25: 固定资产原值 | B25: A017 | C25: 38160570 | D25: 2823560.7 | F25: 962700.66 | G25: =SUM(C25:F25) -> 41946831 | H25: =SUMIF(本期抵消分录!C:C,B25,本期抵消分录!E:E) -> 0 | I25: =SUMIF(本期抵消分录!C:C,B25,本期抵消分录!F:F) -> 0 | J25: =G25+H25-I25 -> 41946831
A26: 减：累计折旧 | B26: A018 | C26: 16609895 | D26: 2242004.9 | F26: 176511.36 | G26: =SUM(C26:F26) -> 19028411 | H26: =SUMIF(本期抵消分录!C:C,B26,本期抵消分录!E:E) -> 0 | I26: =SUMIF(本期抵消分录!C:C,B26,本期抵消分录!F:F) -> 0 | J26: =G26-H26+I26 -> 19028411
A27: 固定资产净值 | B27: A019 | C27: =C25-C26 -> 21550675 | D27: =D25-D26 -> 581555.82 | F27: =F25-F26 -> 786189.3 | G27: =G25-G26 -> 22918420 | H27: =H25-H26 -> 0 | I27: =I25-I26 -> 0 | J27: =J25-J26 -> 22918420
A28: 在建工程 | B28: A020 | C28: 0 | D28: 0 | F28: 0 | G28: =SUM(C28:F28) -> 0 | H28: =SUMIF(本期抵消分录!C:C,B28,本期抵消分录!E:E) -> 0 | I28: =SUMIF(本期抵消分录!C:C,B28,本期抵消分录!F:F) -> 0 | J28: =G28+H28-I28 -> 0
A29: 工程物资 | B29: A021 | C29: 0 | D29: 0 | F29: 0 | G29: =SUM(C29:F29) -> 0 | H29: =SUMIF(本期抵消分录!C:C,B29,本期抵消分录!E:E) -> 0 | I29: =SUMIF(本期抵消分录!C:C,B29,本期抵消分录!F:F) -> 0 | J29: =G29+H29-I29 -> 0
A30: 固定资产清理 | B30: A022 | C30: 0 | D30: 0 | F30: 0 | G30: =SUM(C30:F30) -> 0 | H30: =SUMIF(本期抵消分录!C:C,B30,本期抵消分录!E:E) -> 0 | I30: =SUMIF(本期抵消分录!C:C,B30,本期抵消分录!F:F) -> 0 | J30: =G30+H30-I30 -> 0
A31: 无形资产 | B31: A023 | C31: 68687.68 | D31: 0 | F31: 0 | G31: =SUM(C31:F31) -> 68687.68 | H31: =SUMIF(本期抵消分录!C:C,B31,本期抵消分录!E:E) -> 0 | I31: =SUMIF(本期抵消分录!C:C,B31,本期抵消分录!F:F) -> 0 | J31: =G31+H31-I31 -> 68687.68
A32: 长期待摊费用 | B32: A024 | C32: 0 | D32: 486467.37 | F32: 0 | G32: =SUM(C32:F32) -> 486467.37 | H32: =SUMIF(本期抵消分录!C:C,B32,本期抵消分录!E:E) -> 0 | I32: =SUMIF(本期抵消分录!C:C,B32,本期抵消分录!F:F) -> 0 | J32: =G32+H32-I32 -> 486467.37
A33: 递延所得税资产 | B33: A025 | C33: 5221445.3 | D33: 5327921.1 | F33: 0 | G33: =SUM(C33:F33) -> 10549366 | H33: =SUMIF(本期抵消分录!C:C,B33,本期抵消分录!E:E) -> 0 | I33: =SUMIF(本期抵消分录!C:C,B33,本期抵消分录!F:F) -> 0 | J33: =G33+H33-I33 -> 10549366
A34: 其他非流动资产 | B34: A026 | C34: 0 | D34: 0 | F34: 0 | G34: =SUM(C34:F34) -> 0 | H34: =SUMIF(本期抵消分录!C:C,B34,本期抵消分录!E:E) -> 0 | I34: =SUMIF(本期抵消分录!C:C,B34,本期抵消分录!F:F) -> 0 | J34: =G34+H34-I34 -> 0
A35: 非流动资产合计 | C35: =SUM(C21:C24,C27:C34) -> 50996020 | D35: =SUM(D21:D24,D27:D34) -> 17143571 | F35: =SUM(F21:F24,F27:F34) -> 786189.3 | G35: =SUM(G21:G24,G27:G34) -> 68925781 | H35: =SUM(H21:H24,H27:H34) -> 0 | I35: =SUM(I21:I24,I27:I34) -> 8445211.9 | J35: =SUM(J21:J24,J27:J34) -> 60480569
A36: 资产总计 | C36: =C19+C35 -> 1.3020669e+09 | D36: =D19+D35 -> 6.1483317e+08 | F36: =F19+F35 -> 27263445 | G36: =G19+G35 -> 1.9441636e+09 | H36: =H19+H35 -> 0 | I36: =I19+I35 -> 13445212 | J36: =J19+J35 -> 1.9307183e+09
A37: 负债及所有者权益
A38: 流动负债：
A39: 短期借款 | B39: A027 | C39: 0 | D39: 0 | F39: 0 | G39: =SUM(C39:F39) -> 0 | H39: =SUMIF(本期抵消分录!C:C,B39,本期抵消分录!E:E) -> 0 | I39: =SUMIF(本期抵消分录!C:C,B39,本期抵消分录!F:F) -> 0 | J39: =G39-H39+I39 -> 0
A40: 以公允价值计量且其变动计入当期损益的金融负债 | B40: A028 | C40: 0 | D40: 0 | F40: 0 | G40: =SUM(C40:F40) -> 0 | H40: =SUMIF(本期抵消分录!C:C,B40,本期抵消分录!E:E) -> 0 | I40: =SUMIF(本期抵消分录!C:C,B40,本期抵消分录!F:F) -> 0 | J40: =G40-H40+I40 -> 0
...

Sheet 本期抵消分录
A1: 序号 | B1: 摘要 | C1: 科目代码 | D1: 科目名称 | E1: 借 | F1: 贷
A3: 母-A | B3: 长期股权投资与权益抵销 | C3: A046 | D3: =IF(C3=0,"",VLOOKUP(C3,科目表!A:B,2,FALSE)) -> 实收资本 | E3: 12500000
C4: A047 | D4: =IF(C4=0,"",VLOOKUP(C4,科目表!A:B,2,FALSE)) -> 资本公积
C5: A049 | D5: =IF(C5=0,"",VLOOKUP(C5,科目表!A:B,2,FALSE)) -> 盈余公积 | E5: 13152045
C6: a050 | D6: =IF(C6=0,"",VLOOKUP(C6,科目表!A:B,2,FALSE)) -> 其中：法定盈余公积 | E6: 6366129.2
C7: a051 | D7: =IF(C7=0,"",VLOOKUP(C7,科目表!A:B,2,FALSE)) -> 任意盈余公积 | E7: 6785915.5
C8: A052 | D8: =IF(C8=0,"",VLOOKUP(C8,科目表!A:B,2,FALSE)) -> 未分配利润 | E8: 12337156
C9: A016 | D9: =IF(C9=0,"",VLOOKUP(C9,科目表!A:B,2,FALSE)) -> 长期股权投资 | F9: 7750000
C10: A053 | D10: =IF(C10=0,"",VLOOKUP(C10,科目表!A:B,2,FALSE)) -> 少数股东权益 | F10: 14435896
D11: =IF(C11=0,"",VLOOKUP(C11,科目表!A:B,2,FALSE))
B12: 投资收益与利润分配抵销 | C12: B016 | D12: =IF(C12=0,"",VLOOKUP(C12,科目表!A:B,2,FALSE)) -> 投资收益 | E12: 5456000
C13: B028 | D13: =IF(C13=0,"",VLOOKUP(C13,科目表!A:B,2,FALSE)) -> 少数股东损益 | E13: 3612402.5
C14: B029 | D14: =IF(C14=0,"",VLOOKUP(C14,科目表!A:B,2,FALSE)) -> 年初未分配利润 | E14: -3209723.8
C15: B030 | D15: =IF(C15=0,"",VLOOKUP(C15,科目表!A:B,2,FALSE)) -> 其他转入
C16: B031 | D16: =IF(C16=0,"",VLOOKUP(C16,科目表!A:B,2,FALSE)) -> 提取法定盈余公积金 | F16: 524826.98
C17: B038 | D17: =IF(C17=0,"",VLOOKUP(C17,科目表!A:B,2,FALSE)) -> 应分配普通股股利 | F17: 8800000
C18: B039 | D18: =IF(C18=0,"",VLOOKUP(C18,科目表!A:B,2,FALSE)) -> 应转增股本普通股股利
C19: A052 | D19: =IF(C19=0,"",VLOOKUP(C19,科目表!A:B,2,FALSE)) -> 未分配利润 | F19: 12337156
D20: =IF(C20=0,"",VLOOKUP(C20,科目表!A:B,2,FALSE))
D21: =IF(C21=0,"",VLOOKUP(C21,科目表!A:B,2,FALSE)) | E21: =SUM(E3:E5,E8:E10,E12:E19) -> 43847880 | F21: =SUM(F3:F10,F12:F19) -> 43847880 | G21: =IF(ABS(INT((E21-F21)*100+0.5))<>0,"分录不平"," ")
D22: =IF(C22=0,"",VLOOKUP(C22,科目表!A:B,2,FALSE)) | G22: =E21-F21 -> 0
A23: 母-B | B23: 长期股权投资与权益抵销 | C23: A046 | D23: =IF(C23=0,"",VLOOKUP(C23,科目表!A:B,2,FALSE)) -> 实收资本 | E23: 695211.94
C24: A047 | D24: =IF(C24=0,"",VLOOKUP(C24,科目表!A:B,2,FALSE)) -> 资本公积
C25: A049 | D25: =IF(C25=0,"",VLOOKUP(C25,科目表!A:B,2,FALSE)) -> 盈余公积
C26: a050 | D26: =IF(C26=0,"",VLOOKUP(C26,科目表!A:B,2,FALSE)) -> 其中：法定盈余公积
C27: a051 | D27: =IF(C27=0,"",VLOOKUP(C27,科目表!A:B,2,FALSE)) -> 任意盈余公积
C28: A052 | D28: =IF(C28=0,"",VLOOKUP(C28,科目表!A:B,2,FALSE)) -> 未分配利润 | E28: 7042061.7
C29: A016 | D29: =IF(C29=0,"",VLOOKUP(C29,科目表!A:B,2,FALSE)) -> 长期股权投资 | F29: 695211.94
C30: A053 | D30: =IF(C30=0,"",VLOOKUP(C30,科目表!A:B,2,FALSE)) -> 少数股东权益
D31: =IF(C31=0,"",VLOOKUP(C31,科目表!A:B,2,FALSE))
B32: 投资收益与利润分配抵销 | C32: B016 | D32: =IF(C32=0,"",VLOOKUP(C32,科目表!A:B,2,FALSE)) -> 投资收益
C33: B028 | D33: =IF(C33=0,"",VLOOKUP(C33,科目表!A:B,2,FALSE)) -> 少数股东损益
C34: B029 | D34: =IF(C34=0,"",VLOOKUP(C34,科目表!A:B,2,FALSE)) -> 年初未分配利润 | E34: =F41-SUM(E23:E25,E28:E33,E35:E39) -> 0
C35: B030 | D35: =IF(C35=0,"",VLOOKUP(C35,科目表!A:B,2,FALSE)) -> 其他转入
C36: B031 | D36: =IF(C36=0,"",VLOOKUP(C36,科目表!A:B,2,FALSE)) -> 提取法定盈余公积金
C37: B038 | D37: =IF(C37=0,"",VLOOKUP(C37,科目表!A:B,2,FALSE)) -> 应分配普通股股利
C38: B039 | D38: =IF(C38=0,"",VLOOKUP(C38,科目表!A:B,2,FALSE)) -> 应转增股本普通股股利
C39: A052 | D39: =IF(C39=0,"",VLOOKUP(C39,科目表!A:B,2,FALSE)) -> 未分配利润 | F39: 7042061.7
D40: =IF(C40=0,"",VLOOKUP(C40,科目表!A:B,2,FALSE))
D41: =IF(C41=0,"",VLOOKUP(C41,科目表!A:B,2,FALSE)) | E41: =SUM(E23:E25,E28:E30,E32:E39) -> 7737273.7 | F41: =SUM(F23:F30,F32:F39) -> 7737273.7 | G41: =IF(ABS(INT((E41-F41)*100+0.5))<>0,"分录不平"," ")
...

Sheet 科目表
A1: 科目代码 | B1: 项目
B2: 资产负债表
B3: 流动资产：
A4: A001 | B4: 货币资金
A5: A002 | B5: 以公允价值计量且其变动计入当期损益的金融资产
A6: A003 | B6: 应收票据
A7: A004 | B7: 应收账款
A8: A005 | B8: 预付款项
A9: A006 | B9: 应收利息
A10: A007 | B10: 应收股利
A11: A008 | B11: 其他应收款
A12: A009 | B12: 其中：应收出口退税
A13: A010 | B13: 存货
A14: A055 | B14: 持有待售资产
A15: A011 | B15: 一年内到期的非流动资产
... A58: A053 | B58: 少数股东权益
A59: A054
B60: 利润表
A61: B001 | B61: 营业总收入
A62: B002 | B62: 主营业务收入
A63: B003 | B63: 其他业务收入
A64: B004 | B64: 营业成本
A65: B005 | B65: 主营业务成本
A66: B006 | B66: 其他业务成本
A67: B007 | B67: 营业税金及附加
A68: B008 | B68: 销售费用
A69: B009 | B69: 管理费用
A70: B010 | B70: 财务费用
A71: B011 | B71: 利息支出
A72: B012 | B72: 利息收入
... A111: B039 | B111: 应转增股本普通股股利
B112: 现金流量表科目
A113: C001 | B113: 销售商品、提供劳务收到的现金
A114: C002 | B114: 收到的税费返还
A115: C003 | B115: 收到的其他与经营活动有关的现金
A116: C004 | B116: 购买商品、接受劳务支付的现金
A117: C005 | B117: 支付给职工以及为职工支付的现金
A118: C006 | B118: 支付的各项税费
A119: C007 | B119: 支付的其他与经营活动有关的现金
A120: C011 | B120: 收回投资所收到的现金
...
